BEGIN:VCALENDAR
VERSION:2.0
PRODID:-//hacksw/handcal//NONSGML v1.0//EN
CALSCALE:GREGORIAN
BEGIN:VEVENT
DTSTART:20170524T080000Z
DTEND:20170524T080000Z
UID:e8643
DTSTAMP:20260421T055229Z
LOCATION:The David Lopatie Conference Centre
DESCRIPTION:Oncogenesis: WIS-McGill Cancer Symposium
SUMMARY:Oncogenesis: WIS-McGill Cancer Symposium
END:VEVENT
END:VCALENDAR