BEGIN:VCALENDAR
VERSION:2.0
PRODID:-//hacksw/handcal//NONSGML v1.0//EN
CALSCALE:GREGORIAN
BEGIN:VEVENT
DTSTART:20171205T110000Z
DTEND:20171205T110000Z
UID:e9717
DTSTAMP:20260423T011649Z
LOCATION:Jacob Ziskind Building
DESCRIPTION:Vision and Robotics Seminar
SUMMARY:Vision and Robotics Seminar
END:VEVENT
END:VCALENDAR