BEGIN:VCALENDAR
VERSION:2.0
PRODID:-//hacksw/handcal//NONSGML v1.0//EN
CALSCALE:GREGORIAN
BEGIN:VEVENT
DTSTART:20250122T110000Z
DTEND:20250122T110000Z
UID:e23956
DTSTAMP:20260420T172921Z
LOCATION:Arthur and Rochelle Belfer Building for Biomedical Research
DESCRIPTION:"Though the city used to be called Luz" –SIRT6\, aging and beyond.
SUMMARY:"Though the city used to be called Luz" –SIRT6\, aging and beyond.
END:VEVENT
END:VCALENDAR