BEGIN:VCALENDAR
VERSION:2.0
PRODID:-//hacksw/handcal//NONSGML v1.0//EN
CALSCALE:GREGORIAN
BEGIN:VEVENT
DTSTART:20250218T110000Z
DTEND:20250218T110000Z
UID:e23959
DTSTAMP:20260420T172921Z
LOCATION:Arthur and Rochelle Belfer Building for Biomedical Research
DESCRIPTION:Sagol Longevity Series
SUMMARY:Sagol Longevity Series
END:VEVENT
END:VCALENDAR