BEGIN:VCALENDAR
VERSION:2.0
PRODID:-//hacksw/handcal//NONSGML v1.0//EN
CALSCALE:GREGORIAN
BEGIN:VEVENT
DTSTART:20241218T110000Z
DTEND:20241218T110000Z
UID:e24098
DTSTAMP:20260421T151646Z
LOCATION:Gerhard M.J. Schmidt Lecture Hall
DESCRIPTION:A Computational Perspective on Supercooled and Glassy Water
SUMMARY:A Computational Perspective on Supercooled and Glassy Water
END:VEVENT
END:VCALENDAR