BEGIN:VCALENDAR
VERSION:2.0
PRODID:-//hacksw/handcal//NONSGML v1.0//EN
CALSCALE:GREGORIAN
BEGIN:VEVENT
DTSTART:20230629T140000Z
DTEND:20230629T140000Z
UID:e22021
DTSTAMP:20260421T135716Z
LOCATION:Max and Lillian Candiotty Building
DESCRIPTION:Microbiota and cancer treatment - an ecological journey
SUMMARY:Microbiota and cancer treatment - an ecological journey
END:VEVENT
END:VCALENDAR