BEGIN:VCALENDAR
VERSION:2.0
PRODID:-//hacksw/handcal//NONSGML v1.0//EN
CALSCALE:GREGORIAN
BEGIN:VEVENT
DTSTART:20240107T000000Z
DTEND:20240107T000000Z
UID:e22732
DTSTAMP:20260423T224935Z
LOCATION:The David Lopatie Conference Centre
DESCRIPTION:quantum error-correction meets high dimensional expansion\, complexity hops on the boat
SUMMARY:quantum error-correction meets high dimensional expansion\, complexity hops on the boat
END:VEVENT
END:VCALENDAR